Workbook

Sheet Data (aug 2018 - today)
A1: DATUM | C1: LME USD | E1: LME EUR | G1: EUR/USD | I1: EUR/SEK | K1: LME SEK/KG | N1: Admin matar in data | Q1: Data uppdateras automatiskt
A2: 43339 | C2: 2075 | E2: =C2/G2 -> 1788.0224 | G2: 1.1605 | I2: 10.6 | K2: =(E2*I2)/1000 -> 18.953037
A3: 43340 | C3: 2095 | E3: =C3/G3 -> 1792.5901 | G3: 1.1687 | I3: 10.65 | K3: =(E3*I3)/1000 -> 19.091084
A4: 43341 | C4: 2133.5 | E4: =C4/G4 -> 1828.8188 | G4: 1.1666 | I4: 10.71 | K4: =(E4*I4)/1000 -> 19.586649
A5: 43342 | C5: 2172 | E5: =C5/G5 -> 1856.4103 | G5: 1.17 | I5: 10.7 | K5: =(E5*I5)/1000 -> 19.86359
A6: 43346 | C6: 2125 | E6: =C6/G6 -> 1832.8446 | G6: 1.1594 | I6: 10.6 | K6: =(E6*I6)/1000 -> 19.428152
A7: 43347 | C7: 2097 | E7: =C7/G7 -> 1808.3822 | G7: 1.1596 | I7: 10.55 | K7: =(E7*I7)/1000 -> 19.078432
A8: 43348 | C8: 2062 | E8: =C8/G8 -> 1781.7333 | G8: 1.1573 | I8: 10.55 | K8: =(E8*I8)/1000 -> 18.797287
A9: 43349 | C9: 2068 | E9: =C9/G9 -> 1779.0778 | G9: 1.1624 | I9: 10.54 | K9: =(E9*I9)/1000 -> 18.75148
A10: 43350 | C10: 2040 | E10: =C10/G10 -> 1755.4427 | G10: 1.1621 | I10: 10.6 | K10: =(E10*I10)/1000 -> 18.607693
A11: 43353 | C11: 2070 | E11: =C11/G11 -> 1794.6939 | G11: 1.1534 | I11: 10.45 | K11: =(E11*I11)/1000 -> 18.754552
A12: 43354 | C12: 2095 | E12: =C12/G12 -> 1803.0812 | G12: 1.1619 | I12: 10.5 | K12: =(E12*I12)/1000 -> 18.932352
A13: 43355 | C13: 2044 | E13: =C13/G13 -> 1764.6551 | G13: 1.1583 | I13: 10.5 | K13: =(E13*I13)/1000 -> 18.528879
... A214: 43654 | C214: 1803 | E214: =C214/G214 -> 1606.093 | G214: 1.1226 | I214: 10.6 | K214: =(E214*I214)/1000 -> 17.024586
A215: 43655 | C215: 1809 | E215: =C215/G215 -> 1611.4377 | G215: 1.1226 | I215: 10.62 | K215: =(E215*I215)/1000 -> 17.113469 | L215: Valutor stämmer ej
A216: 43656 | C216: 1821 | E216: =C216/G216 -> 1622.1272 | G216: 1.1226 | I216: 10.62 | K216: =(E216*I216)/1000 -> 17.226991 | L216: Valutor stämmer ej
A217: 43657 | C217: 1850 | E217: =C217/G217 -> 1647.9601 | G217: 1.1226 | I217: 10.61 | K217: =(E217*I217)/1000 -> 17.484857 | L217: Valutor stämmer ej
A218: 43658 | C218: 1828 | E218: =C218/G218 -> 1628.3627 | G218: 1.1226 | I218: 10.6 | K218: =(E218*I218)/1000 -> 17.260645 | L218: Valutor stämmer ej
A219: 43661 | C219: 1822 | E219: =C219/G219 -> 1618.1172 | G219: 1.126 | I219: 10.54 | K219: =(E219*I219)/1000 -> 17.054956
A220: 43662 | C220: 1842 | E220: =C220/G220 -> 1642.8826 | G220: 1.1212 | I220: 10.53 | K220: =(E220*I220)/1000 -> 17.299554
A221: 43663 | C221: 1850 | E221: =C221/G221 -> 1647.9601 | G221: 1.1226 | I221: 10.52 | K221: =(E221*I221)/1000 -> 17.33654
A222: 43664 | C222: 1847 | E222: =C222/G222 -> 1637.5565 | G222: 1.1279 | I222: 10.5 | K222: =(E222*I222)/1000 -> 17.194343
A223: 43665 | C223: 1854 | E223: =C223/G223 -> 1651.2291 | G223: 1.1228 | I223: 10.54 | K223: =(E223*I223)/1000 -> 17.403954
A224: 43668 | C224: 1848 | E224: =C224/G224 -> 1648.6752 | G224: 1.1209 | I224: 10.55 | K224: =(E224*I224)/1000 -> 17.393523
A225: 43669 | C225: 1816 | E225: =C225/G225 -> 1628.2615 | G225: 1.1153 | I225: 10.56 | K225: =(E225*I225)/1000 -> 17.194441
A226: 43670 | C226: 1816 | E226: =C226/G226 -> 1633.9752 | G226: 1.1114 | I226: 10.5 | K226: =(E226*I226)/1000 -> 17.156739
A227: 43671 | C227: 1826 | E227: =C227/G227 -> 1637.8151 | G227: 1.1149 | I227: 10.54 | K227: =(E227*I227)/1000 -> 17.262571
A228: 43672 | C228: 1826 | E228: =C228/G228 -> 1639.4326 | G228: 1.1138 | I228: 10.59 | K228: =(E228*I228)/1000 -> 17.361591
A229: 43675 | C229: 1802 | E229: =C229/G229 -> 1619.6297 | G229: 1.1126 | I229: 10.58 | K229: =(E229*I229)/1000 -> 17.135682
A230: 43676 | C230: 1811 | E230: =C230/G230 -> 1625.6732 | G230: 1.114 | I230: 10.61 | K230: =(E230*I230)/1000 -> 17.248393
... A2003: 46283 | C2003: 3302 | E2003: =C2003/G2003 -> 2875.5552 | G2003: 1.1483 | I2003: 11.26 | K2003: =(E2003*I2003)/1000 -> 32.378751
A2004: 46284
A2005: 46285
A2006: 46286
A2007: 46287
A2008: 46288
A2009: 46289
A2010: 46290
A2011: 46291
A2012: 46292
...

Sheet Average LME (2021 - today)
C2: LME € (EURO) Average | I2: LME $ (USDOLLAR) Average
C5: 2026 | I5: 2026
C6: jan | D6: =AVERAGE('Data (aug 2018 - today)'!E1838:E1858) -> 2683.0189 | E6: Q1 | I6: jan | J6: =AVERAGE('Data (aug 2018 - today)'!C1838:C1858) -> 3149 | K6: Q1
C7: feb | D7: =AVERAGE('Data (aug 2018 - today)'!E1859:E1878) -> 2614.1145 | E7: =AVERAGE(D6:D8) -> 2731.3816 | I7: feb | J7: =AVERAGE('Data (aug 2018 - today)'!C1859:C1878) -> 3091.85 | K7: =AVERAGE(J6:J8) -> 3194.7682 | N7: ** | O7: not determined yet
C8: mars | D8: =AVERAGE('Data (aug 2018 - today)'!E1879:E1900) -> 2897.0113 | I8: mars | J8: =AVERAGE('Data (aug 2018 - today)'!C1879:C1900) -> 3343.4545
C9: april | D9: =AVERAGE('Data (aug 2018 - today)'!E1901:E1921) -> 3032.6694 | E9: Q2 | I9: april | J9: =AVERAGE('Data (aug 2018 - today)'!C1901:C1921) -> 3549.5714 | K9: Q2
C10: may | D10: =AVERAGE('Data (aug 2018 - today)'!E1922:E1938) -> 3067.5889 | E10: =AVERAGE(D9:D11) -> 3030.3193 | I10: may | J10: =AVERAGE('Data (aug 2018 - today)'!C1922:C1938) -> 3582.1176 | K10: =AVERAGE(J9:J11) -> 3526.5313
C11: june | D11: =AVERAGE('Data (aug 2018 - today)'!E1939:E1959) -> 2990.6997 | I11: june | J11: =AVERAGE('Data (aug 2018 - today)'!C1939:C1959) -> 3447.9048
C12: juli | D12: =AVERAGE('Data (aug 2018 - today)'!E1960:E1968) -> 2741.3202 | E12: Q3 | I12: juli | J12: =AVERAGE('Data (aug 2018 - today)'!C1960:C1968) -> 3128.7778 | K12: Q3
C13: aug | D13: =AVERAGE('Data (aug 2018 - today)'!E1969:E1989) -> 2801.8615 | I13: aug | J13: =AVERAGE('Data (aug 2018 - today)'!C1969:C1989) -> 3247.1905
C14: sept | I14: sept
C15: oct | E15: Q4 | I15: oct | K15: Q4
C16: nov | I16: nov
C17: dec | I17: dec | O17: www.westmetal.se
C20: 2025 | I20: 2025 | P20: Månadsgenomsnitt valutakurser | Sveriges Riksbank
C21: jan | D21: =AVERAGE('Data (aug 2018 - today)'!E1586:E1607) -> 2501.7529 | E21: Q1 | I21: jan | J21: =AVERAGE('Data (aug 2018 - today)'!C1586:C1607) -> 2589.2727 | K21: Q1
C22: feb | D22: =AVERAGE('Data (aug 2018 - today)'!E1608:E1627) -> 2538.6669 | E22: =AVERAGE(D21:D23) -> 2497.9815 | I22: feb | J22: =AVERAGE('Data (aug 2018 - today)'!C1608:C1627) -> 2643.6 | K22: =AVERAGE(J21:J23) -> 2627.3385
C23: mars | D23: =AVERAGE('Data (aug 2018 - today)'!E1628:E1648) -> 2453.5246 | I23: mars | J23: =AVERAGE('Data (aug 2018 - today)'!C1628:C1648) -> 2649.1429
C24: april | D24: =AVERAGE('Data (aug 2018 - today)'!E1649:E1668) -> 2161.5618 | E24: Q2 | I24: april | J24: =AVERAGE('Data (aug 2018 - today)'!C1649:C1668) -> 2421 | K24: Q2
C25: may | D25: =AVERAGE('Data (aug 2018 - today)'!E1669:E1690) -> 2180.1332 | E25: =AVERAGE(D24:D26) -> 2177.4733 | I25: may | J25: =AVERAGE('Data (aug 2018 - today)'!C1669:C1690) -> 2456.5 | K25: =AVERAGE(J24:J26) -> 2466.886
C26: june | D26: =AVERAGE('Data (aug 2018 - today)'!E1691:E1709) -> 2190.7249 | I26: june | J26: =AVERAGE('Data (aug 2018 - today)'!C1691:C1709) -> 2523.1579
C27: juli | D27: =AVERAGE('Data (aug 2018 - today)'!E1710:E1732) -> 2235.8928 | E27: Q3 | I27: juli | J27: =AVERAGE('Data (aug 2018 - today)'!C1710:C1732) -> 2612 | K27: Q3
C28: aug | D28: =AVERAGE('Data (aug 2018 - today)'!E1733:E1751) -> 2236.1865 | E28: =AVERAGE(D27:D29) -> 2243.485 | I28: aug | J28: =AVERAGE('Data (aug 2018 - today)'!C1733:C1751) -> 2600.4737 | K28: =AVERAGE(J27:J29) -> 2620.7943
C29: sept | D29: =AVERAGE('Data (aug 2018 - today)'!E1752:E1773) -> 2258.3757 | I29: sept | J29: =AVERAGE('Data (aug 2018 - today)'!C1752:C1773) -> 2649.9091
C30: oct | D30: =AVERAGE('Data (aug 2018 - today)'!E1774:E1796) -> 2396.0047 | E30: Q4 | I30: oct | J30: =AVERAGE('Data (aug 2018 - today)'!C1774:C1796) -> 2789.1739 | K30: Q4
C31: nov | D31: =AVERAGE('Data (aug 2018 - today)'!E1797:E1816) -> 2466.6453 | E31: =AVERAGE(D30:D32) -> 2450.1053 | I31: nov | J31: =AVERAGE('Data (aug 2018 - today)'!C1797:C1816) -> 2851.3 | K31: =AVERAGE(J30:J32) -> 2850.777
C32: dec | D32: =AVERAGE('Data (aug 2018 - today)'!E1817:E1837) -> 2487.6661 | I32: dec | J32: =AVERAGE('Data (aug 2018 - today)'!C1817:C1837) -> 2911.8571
C35: 2024 | I35: 2024
C36: jan | D36: =AVERAGE('Data (aug 2018 - today)'!E1339:E1360) -> 2056.5128 | E36: Q1 | I36: jan | J36: =AVERAGE('Data (aug 2018 - today)'!C1339:C1360) -> 2243.7727 | K36: Q1
C37: feb | D37: =AVERAGE('Data (aug 2018 - today)'!E1361:E1381) -> 2057.1861 | E37: =AVERAGE(D36:D38) -> 2066.4873 | I37: feb | J37: =AVERAGE('Data (aug 2018 - today)'!C1361:C1381) -> 2220.619 | K37: =AVERAGE(J36:J38) -> 2244.0473
C38: mars | D38: =AVERAGE('Data (aug 2018 - today)'!E1382:E1401) -> 2085.7631 | I38: mars | J38: =AVERAGE('Data (aug 2018 - today)'!C1382:C1401) -> 2267.75
C39: april | D39: =AVERAGE('Data (aug 2018 - today)'!E1402:E1422) -> 2363.3642 | E39: Q2 | I39: april | J39: =AVERAGE('Data (aug 2018 - today)'!C1402:C1422) -> 2533.619 | K39: Q2
C40: may | D40: =AVERAGE('Data (aug 2018 - today)'!E1423:E1439) -> 2433.3854 | E40: =AVERAGE(D39:D41) -> 2389.6053 | I40: may | J40: =AVERAGE('Data (aug 2018 - today)'!C1423:C1439) -> 2633.1176 | K40: =AVERAGE(J39:J41) -> 2573.4122
C41: june | D41: =AVERAGE('Data (aug 2018 - today)'!E1440:E1457) -> 2372.0661 | I41: june | J41: =AVERAGE('Data (aug 2018 - today)'!C1440:C1457) -> 2553.5
C42: juli | D42: =AVERAGE('Data (aug 2018 - today)'!E1458:E1480) -> 2228.3499 | E42: Q3 | I42: juli | J42: =AVERAGE('Data (aug 2018 - today)'!C1458:C1480) -> 2416.1739 | K42: Q3
C43: aug | D43: =AVERAGE('Data (aug 2018 - today)'!E1481:E1502) -> 2165.6657 | E43: =AVERAGE(D42:D44) -> 2206.8401 | I43: aug | J43: =AVERAGE('Data (aug 2018 - today)'!C1481:C1502) -> 2386.5909 | K43: =AVERAGE(J42:J44) -> 2424.9216
C44: sept | D44: =AVERAGE('Data (aug 2018 - today)'!E1503:E1523) -> 2226.5047 | I44: sept | J44: =AVERAGE('Data (aug 2018 - today)'!C1503:C1523) -> 2472
C45: oct | D45: =AVERAGE('Data (aug 2018 - today)'!E1524:E1546) -> 2405.8659 | E45: Q4 | I45: oct | J45: =AVERAGE('Data (aug 2018 - today)'!C1524:C1546) -> 2623.5652 | K45: Q4
C46: nov | D46: =AVERAGE('Data (aug 2018 - today)'!E1547:E1567) -> 2462.9441 | E46: =AVERAGE(D45:D47) -> 2444.5445 | I46: nov | J46: =AVERAGE('Data (aug 2018 - today)'!C1547:C1567) -> 2617.2381 | K46: =AVERAGE(J45:J47) -> 2608.6011
C47: dec | D47: =AVERAGE('Data (aug 2018 - today)'!E1568:E1585) -> 2464.8237 | I47: dec | J47: =AVERAGE('Data (aug 2018 - today)'!C1568:C1585) -> 2585
...

Sheet Highest & Lowest (since 2018)
D8: LME SEK/KG
C9: Highest | D9: =MAX('Data (aug 2018 - today)'!K:K) -> 40.468753
C10: Lowest | D10: =MIN('Data (aug 2018 - today)'!K:K) -> 14.396475
D12: EUR/SEK
C13: Highest | D13: =MAX('Data (aug 2018 - today)'!I:I) -> 11.96
C14: Lowest | D14: =MIN('Data (aug 2018 - today)'!I:I) -> 9.84
D16: LME EUR | I16: www.westmetal.se
C17: Highest | D17: =MAX('Data (aug 2018 - today)'!E:E) -> 3712.7296
C18: Lowest | D18: =MIN('Data (aug 2018 - today)'!E:E) -> 1348.7564
D20: EUR/USD
C21: Highest | D21: =MAX('Data (aug 2018 - today)'!G:G) -> 1.2314
C22: Lowest | D22: =MIN('Data (aug 2018 - today)'!G:G) -> 0.9592
D24: LME USD
C25: Highest | D25: =MAX('Data (aug 2018 - today)'!C:C) -> 4022
C26: Lowest | D26: =MIN('Data (aug 2018 - today)'!C:C) -> 1469

Sheet Diagram (aug 2018 - today)
AF20: www.westmetal.se

Sheet Diagram 2026
AB18: www.westmetal.se

Sheet Diagram 2025
AB18: www.westmetal.se

Sheet Diagram 2024
AB18: www.westmetal.se

Sheet Diagram 2023
AB18: www.westmetal.se

Sheet Diagram 2022
AB18: www.westmetal.se

Sheet Diagram 2021
AB18: www.westmetal.se

Sheet Diagram 2020
AB18: www.westmetal.se

Sheet Diagram 2019
AB18: www.westmetal.se

Sheet Diagram 2018
AB18: www.westmetal.se
